BEGIN:VCALENDAR
VERSION:2.0
CALSCALE:GREGORIAN
METHOD:PUBLISH
PRODID://CAEP//206651
BEGIN:VEVENT
DTSTAMP:20260421T170538
VTIMEZONE:America/Los_Angeles
DTSTART:20260218T164500Z
DTEND:20260313T234500Z
UID:206651
SUMMARY:2026 Advanced CEQA Workshop
LOCATION:
DESCRIPTION:2026 Advanced CEQA Workshop\n\n02/18/26 08:45 AM PST\n - 03/13/26 04:45 PM PST
X-ALT-DESC;FMTTYPE=text/html:2026 Advanced CEQA Workshop<br /><br />02/18/26 08:45 AM PST - 03/13/26 04:45 PM PST
PRIORITY:3
TRANSP:TRANSPARENT
BEGIN:VALARM
TRIGGER:-PT5M
ACTION:DISPLAY
DESCRIPTION:Reminder
END:VALARM
END:VEVENT
END:VCALENDAR
